BEGIN:VCALENDAR
VERSION:2.0
PRODID:-//St Josephs Primary School - ECPv6.15.20//NONSGML v1.0//EN
CALSCALE:GREGORIAN
METHOD:PUBLISH
X-WR-CALNAME:St Josephs Primary School
X-ORIGINAL-URL:https://www.stjosephsgeorgerow.org
X-WR-CALDESC:Events for St Josephs Primary School
REFRESH-INTERVAL;VALUE=DURATION:PT1H
X-Robots-Tag:noindex
X-PUBLISHED-TTL:PT1H
BEGIN:VTIMEZONE
TZID:UTC
BEGIN:STANDARD
TZOFFSETFROM:+0000
TZOFFSETTO:+0000
TZNAME:UTC
DTSTART:20240101T000000
END:STANDARD
END:VTIMEZONE
BEGIN:VEVENT
DTSTART;TZID=UTC:20250923T160000
DTEND;TZID=UTC:20250923T170000
DTSTAMP:20260423T201459
CREATED:20250910T084430Z
LAST-MODIFIED:20250910T084430Z
UID:11102-1758643200-1758646800@www.stjosephsgeorgerow.org
SUMMARY:Secondary Transfer Meeting
DESCRIPTION:Secondary Transfer Meeting \nYear 5 & Year 6 Parents \nUpper Hall 4.00-5.00pm
URL:https://www.stjosephsgeorgerow.org/event/secondary-transfer-meeting/
END:VEVENT
BEGIN:VEVENT
DTSTART;TZID=UTC:20250919T153000
DTEND;TZID=UTC:20250919T163000
DTSTAMP:20260423T201459
CREATED:20250910T083821Z
LAST-MODIFIED:20250910T083821Z
UID:11096-1758295800-1758299400@www.stjosephsgeorgerow.org
SUMMARY:Management of Good Behaviour Meeting
DESCRIPTION:Catch up  meeting for parents who missed previous meetings \n3.45pm – 4.45pm  \nUpper Hall
URL:https://www.stjosephsgeorgerow.org/event/management-of-good-behaviour-meeting-2/
END:VEVENT
BEGIN:VEVENT
DTSTART;TZID=UTC:20250917T153000
DTEND;TZID=UTC:20250917T163000
DTSTAMP:20260423T201459
CREATED:20250910T083635Z
LAST-MODIFIED:20250910T083635Z
UID:11094-1758123000-1758126600@www.stjosephsgeorgerow.org
SUMMARY:Management of Good Behaviour Meeting
DESCRIPTION:Year 5 & 6 Parents \n3.45pm – 4.45pm \nUpper Hall
URL:https://www.stjosephsgeorgerow.org/event/management-of-good-behaviour-meeting/
END:VEVENT
BEGIN:VEVENT
DTSTART;TZID=UTC:20250916T153000
DTEND;TZID=UTC:20250916T180000
DTSTAMP:20260423T201459
CREATED:20250910T084252Z
LAST-MODIFIED:20250910T084252Z
UID:11100-1758036600-1758045600@www.stjosephsgeorgerow.org
SUMMARY:Meet the teacher 1:1 meeting
DESCRIPTION:Meet the teacher 1:1 meeting \nWhole school \n3.30pm – 6.00pm
URL:https://www.stjosephsgeorgerow.org/event/meet-the-teacher-11-meeting-2/
END:VEVENT
BEGIN:VEVENT
DTSTART;TZID=UTC:20250915T153000
DTEND;TZID=UTC:20250915T180000
DTSTAMP:20260423T201459
CREATED:20250910T084148Z
LAST-MODIFIED:20250910T084148Z
UID:11098-1757950200-1757959200@www.stjosephsgeorgerow.org
SUMMARY:Meet the teacher 1:1 meeting
DESCRIPTION:Meet the teacher 1:1 meeting \nWhole school \n3.30pm – 6.00pm
URL:https://www.stjosephsgeorgerow.org/event/meet-the-teacher-11-meeting/
END:VEVENT
BEGIN:VEVENT
DTSTART;TZID=UTC:20250912T153000
DTEND;TZID=UTC:20250912T163000
DTSTAMP:20260423T201459
CREATED:20250910T082853Z
LAST-MODIFIED:20250910T082926Z
UID:11091-1757691000-1757694600@www.stjosephsgeorgerow.org
SUMMARY:Management of Good Behaviour Meeting
DESCRIPTION:Year 2\, Year 3 and Year 4 Parents \n3.45pm – 4.45pm \nUpper Hall \n 
URL:https://www.stjosephsgeorgerow.org/event/managment-of-good-behaviour-meeting/
END:VEVENT
BEGIN:VEVENT
DTSTART;VALUE=DATE:20250721
DTEND;VALUE=DATE:20250722
DTSTAMP:20260423T201459
CREATED:20250709T104439Z
LAST-MODIFIED:20250709T104747Z
UID:10969-1753056000-1753142399@www.stjosephsgeorgerow.org
SUMMARY:Year 6 Leavers Mass 4.30pm
DESCRIPTION:Year 6 Leavers Mass (Parents attend) **NEW DATE** \n4.30pm \nUpper Hall
URL:https://www.stjosephsgeorgerow.org/event/year-6-leavers-mass/
END:VEVENT
BEGIN:VEVENT
DTSTART;VALUE=DATE:20250717
DTEND;VALUE=DATE:20250718
DTSTAMP:20260423T201459
CREATED:20250212T090245Z
LAST-MODIFIED:20250709T104104Z
UID:9978-1752710400-1752796799@www.stjosephsgeorgerow.org
SUMMARY:Year 6 Leavers’ Mass  (Parents attend) 4:30pm (RESCHEDULED)
DESCRIPTION:Year 6 Leavers’ Mass (Parents attend)\n4:30pm\nUpper Hall
URL:https://www.stjosephsgeorgerow.org/event/year-6-leavers-mass-parents-attend-430pm/
END:VEVENT
BEGIN:VEVENT
DTSTART;VALUE=DATE:20250716
DTEND;VALUE=DATE:20250717
DTSTAMP:20260423T201459
CREATED:20250212T090156Z
LAST-MODIFIED:20250212T090157Z
UID:9976-1752624000-1752710399@www.stjosephsgeorgerow.org
SUMMARY:Year 6 Leavers’ Assembly   (Parents attend\, doors open at 8:40am)
DESCRIPTION:Year 6 Leavers’ Assembly (Parents attend\, doors open at 8:40am)\n9:10am\nUpper Hall
URL:https://www.stjosephsgeorgerow.org/event/year-6-leavers-assembly-parents-attend-doors-open-at-840am/
END:VEVENT
BEGIN:VEVENT
DTSTART;TZID=UTC:20250715T140000
DTEND;TZID=UTC:20250715T153000
DTSTAMP:20260423T201459
CREATED:20250624T085025Z
LAST-MODIFIED:20250624T085025Z
UID:10735-1752588000-1752593400@www.stjosephsgeorgerow.org
SUMMARY:End of Year Work Showcase
DESCRIPTION:End of Year Work Showcase \n2pm – 3pm in classrooms \n(Details to follow)
URL:https://www.stjosephsgeorgerow.org/event/end-of-year-work-showcase-2/
END:VEVENT
BEGIN:VEVENT
DTSTART;TZID=UTC:20250714T140000
DTEND;TZID=UTC:20250714T153000
DTSTAMP:20260423T201459
CREATED:20250624T084836Z
LAST-MODIFIED:20250624T084836Z
UID:10733-1752501600-1752507000@www.stjosephsgeorgerow.org
SUMMARY:End of Year Work Showcase
DESCRIPTION:End of year work showcase \n2pm-3pm in classrooms \n(Details to follow)
URL:https://www.stjosephsgeorgerow.org/event/end-of-year-work-showcase/
END:VEVENT
BEGIN:VEVENT
DTSTART;VALUE=DATE:20250702
DTEND;VALUE=DATE:20250703
DTSTAMP:20260423T201459
CREATED:20250212T090009Z
LAST-MODIFIED:20250212T090009Z
UID:9970-1751414400-1751500799@www.stjosephsgeorgerow.org
SUMMARY:EYFS Welcome Picnic  3:30pm
DESCRIPTION:EYFS Welcome Picnic  3:30pm
URL:https://www.stjosephsgeorgerow.org/event/eyfs-welcome-picnic-330pm/
END:VEVENT
BEGIN:VEVENT
DTSTART;VALUE=DATE:20250626
DTEND;VALUE=DATE:20250627
DTSTAMP:20260423T201459
CREATED:20250212T085942Z
LAST-MODIFIED:20250212T085942Z
UID:9968-1750896000-1750982399@www.stjosephsgeorgerow.org
SUMMARY:Nursery Welcome Meeting   (Sep. 25 intake) 2pm
DESCRIPTION:Nursery Welcome Meeting   (Sep. 25 intake)\n2pm\nUpper Hall
URL:https://www.stjosephsgeorgerow.org/event/nursery-welcome-meeting-sep-25-intake-2pm/
END:VEVENT
BEGIN:VEVENT
DTSTART;VALUE=DATE:20250623
DTEND;VALUE=DATE:20250628
DTSTAMP:20260423T201459
CREATED:20250212T085816Z
LAST-MODIFIED:20250212T085816Z
UID:9964-1750636800-1751068799@www.stjosephsgeorgerow.org
SUMMARY:Year 6 School Journey Week
DESCRIPTION:Year 6 School Journey Week
URL:https://www.stjosephsgeorgerow.org/event/year-6-school-journey-week/
END:VEVENT
BEGIN:VEVENT
DTSTART;VALUE=DATE:20250619
DTEND;VALUE=DATE:20250620
DTSTAMP:20260423T201459
CREATED:20250212T085744Z
LAST-MODIFIED:20250212T085744Z
UID:9962-1750291200-1750377599@www.stjosephsgeorgerow.org
SUMMARY:Reception Welcome Meeting   (Sep. 25 intake)  2pm
DESCRIPTION:Reception Welcome Meeting   (Sep. 25 intake)\n2pm\nUpper Hall
URL:https://www.stjosephsgeorgerow.org/event/reception-welcome-meeting-sep-25-intake-2pm/
END:VEVENT
BEGIN:VEVENT
DTSTART;VALUE=DATE:20250613
DTEND;VALUE=DATE:20250614
DTSTAMP:20260423T201459
CREATED:20250212T085650Z
LAST-MODIFIED:20250212T085650Z
UID:9960-1749772800-1749859199@www.stjosephsgeorgerow.org
SUMMARY:Key Stage Two Sports Day
DESCRIPTION:Key Stage Two Sports Day
URL:https://www.stjosephsgeorgerow.org/event/key-stage-two-sports-day/
END:VEVENT
BEGIN:VEVENT
DTSTART;VALUE=DATE:20250612
DTEND;VALUE=DATE:20250613
DTSTAMP:20260423T201459
CREATED:20250212T085631Z
LAST-MODIFIED:20250212T085631Z
UID:9958-1749686400-1749772799@www.stjosephsgeorgerow.org
SUMMARY:Nursery Sports Day
DESCRIPTION:Nursery Sports Day
URL:https://www.stjosephsgeorgerow.org/event/nursery-sports-day/
END:VEVENT
BEGIN:VEVENT
DTSTART;VALUE=DATE:20250611
DTEND;VALUE=DATE:20250612
DTSTAMP:20260423T201459
CREATED:20250212T085611Z
LAST-MODIFIED:20250212T085611Z
UID:9956-1749600000-1749686399@www.stjosephsgeorgerow.org
SUMMARY:Reception + Key Stage One Sports Day
DESCRIPTION:Reception + Key Stage One Sports Day
URL:https://www.stjosephsgeorgerow.org/event/reception-key-stage-one-sports-day/
END:VEVENT
BEGIN:VEVENT
DTSTART;VALUE=DATE:20250604
DTEND;VALUE=DATE:20250605
DTSTAMP:20260423T201459
CREATED:20250212T085547Z
LAST-MODIFIED:20250212T085547Z
UID:9954-1748995200-1749081599@www.stjosephsgeorgerow.org
SUMMARY:Year 6 Parents’ School Journey Meeting 5pm
DESCRIPTION:Year 6 Parents’ School Journey Meeting\n5pm\nUpper Hall
URL:https://www.stjosephsgeorgerow.org/event/year-6-parents-school-journey-meeting-5pm/
END:VEVENT
BEGIN:VEVENT
DTSTART;VALUE=DATE:20250516
DTEND;VALUE=DATE:20250517
DTSTAMP:20260423T201459
CREATED:20250212T091002Z
LAST-MODIFIED:20250212T091002Z
UID:9991-1747353600-1747439999@www.stjosephsgeorgerow.org
SUMMARY:John-Paul Class Assembly
DESCRIPTION:John-Paul Class Assembly \nDoors open at 8:40am. Assemblies are expected to start at 9:10am and finish at 9:30am. Please\nobserve a quiet\, prayerful atmosphere for the start of the assembly.
URL:https://www.stjosephsgeorgerow.org/event/john-paul-class-assembly/
END:VEVENT
BEGIN:VEVENT
DTSTART;VALUE=DATE:20250509
DTEND;VALUE=DATE:20250510
DTSTAMP:20260423T201459
CREATED:20250212T090937Z
LAST-MODIFIED:20250212T090937Z
UID:9989-1746748800-1746835199@www.stjosephsgeorgerow.org
SUMMARY:Peter Class Assembly
DESCRIPTION:Peter Class Assembly \nDoors open at 8:40am. Assemblies are expected to start at 9:10am and finish at 9:30am. Please\nobserve a quiet\, prayerful atmosphere for the start of the assembly.
URL:https://www.stjosephsgeorgerow.org/event/peter-class-assembly/
END:VEVENT
BEGIN:VEVENT
DTSTART;VALUE=DATE:20250501
DTEND;VALUE=DATE:20250502
DTSTAMP:20260423T201459
CREATED:20250212T085439Z
LAST-MODIFIED:20250424T102159Z
UID:9952-1746057600-1746143999@www.stjosephsgeorgerow.org
SUMMARY:St. Joseph’s Day
DESCRIPTION:St. Joseph’s Day
URL:https://www.stjosephsgeorgerow.org/event/st-josephs-day-service-1030am/
END:VEVENT
BEGIN:VEVENT
DTSTART;VALUE=DATE:20250425
DTEND;VALUE=DATE:20250426
DTSTAMP:20260423T201459
CREATED:20250212T090820Z
LAST-MODIFIED:20250307T125638Z
UID:9985-1745539200-1745625599@www.stjosephsgeorgerow.org
SUMMARY:Baptist Class Assembly
DESCRIPTION:Baptist Class Assembly \nDoors open at 8:40am. Assemblies are expected to start at 9:10am and finish at 9:30am. Please\nobserve a quiet\, prayerful atmosphere for the start of the assembly.
URL:https://www.stjosephsgeorgerow.org/event/baptist-class-assembly/
END:VEVENT
BEGIN:VEVENT
DTSTART;VALUE=DATE:20250324
DTEND;VALUE=DATE:20250325
DTSTAMP:20260423T201459
CREATED:20250212T085359Z
LAST-MODIFIED:20250212T085359Z
UID:9950-1742774400-1742860799@www.stjosephsgeorgerow.org
SUMMARY:Spring Term Report   (Sent to parents – no meeting)
DESCRIPTION:Spring Term Report (Sent to parents – no meeting)
URL:https://www.stjosephsgeorgerow.org/event/spring-term-report-sent-to-parents-no-meeting/
END:VEVENT
BEGIN:VEVENT
DTSTART;VALUE=DATE:20250321
DTEND;VALUE=DATE:20250322
DTSTAMP:20260423T201459
CREATED:20250212T090848Z
LAST-MODIFIED:20250212T090908Z
UID:9987-1742515200-1742601599@www.stjosephsgeorgerow.org
SUMMARY:Elizabeth Class Assembly
DESCRIPTION:Elizabeth Class Assembly \nDoors open at 8:40am. Assemblies are expected to start at 9:10am and finish at 9:30am. Please\nobserve a quiet\, prayerful atmosphere for the start of the assembly.
URL:https://www.stjosephsgeorgerow.org/event/elizabeth-class-assembly/
END:VEVENT
BEGIN:VEVENT
DTSTART;VALUE=DATE:20250319
DTEND;VALUE=DATE:20250320
DTSTAMP:20260423T201459
CREATED:20250212T085329Z
LAST-MODIFIED:20250212T085329Z
UID:9948-1742342400-1742428799@www.stjosephsgeorgerow.org
SUMMARY:School Photographs (Classes)
DESCRIPTION:School Photographs (Classes)
URL:https://www.stjosephsgeorgerow.org/event/school-photographs-classes/
END:VEVENT
BEGIN:VEVENT
DTSTART;VALUE=DATE:20250307
DTEND;VALUE=DATE:20250308
DTSTAMP:20260423T201459
CREATED:20250212T090757Z
LAST-MODIFIED:20250212T090757Z
UID:9983-1741305600-1741391999@www.stjosephsgeorgerow.org
SUMMARY:Jerome Class Assembly
DESCRIPTION:Jerome Class Assembly \nDoors open at 8:40am. Assemblies are expected to start at 9:10am and finish at 9:30am. Please\nobserve a quiet\, prayerful atmosphere for the start of the assembly.
URL:https://www.stjosephsgeorgerow.org/event/jerome-class-assembly/
END:VEVENT
BEGIN:VEVENT
DTSTART;VALUE=DATE:20250207
DTEND;VALUE=DATE:20250208
DTSTAMP:20260423T201459
CREATED:20250212T090736Z
LAST-MODIFIED:20250212T090736Z
UID:9981-1738886400-1738972799@www.stjosephsgeorgerow.org
SUMMARY:McAuley Class Assembly
DESCRIPTION:McAuley Class Assembly \nDoors open at 8:40am. Assemblies are expected to start at 9:10am and finish at 9:30am. Please\nobserve a quiet\, prayerful atmosphere for the start of the assembly.
URL:https://www.stjosephsgeorgerow.org/event/mcauley-class-assembly/
END:VEVENT
END:VCALENDAR